BEGIN:VCALENDAR
VERSION:2.0
PRODID:-//nadatodo - ECPv6.15.20//NONSGML v1.0//EN
CALSCALE:GREGORIAN
METHOD:PUBLISH
X-ORIGINAL-URL:http://www.nadatodo.com
X-WR-CALDESC:Events for nadatodo
REFRESH-INTERVAL;VALUE=DURATION:PT1H
X-Robots-Tag:noindex
X-PUBLISHED-TTL:PT1H
BEGIN:VTIMEZONE
TZID:America/Vancouver
BEGIN:DAYLIGHT
TZOFFSETFROM:-0800
TZOFFSETTO:-0700
TZNAME:PDT
DTSTART:20220313T100000
END:DAYLIGHT
BEGIN:STANDARD
TZOFFSETFROM:-0700
TZOFFSETTO:-0800
TZNAME:PST
DTSTART:20221106T090000
END:STANDARD
BEGIN:DAYLIGHT
TZOFFSETFROM:-0800
TZOFFSETTO:-0700
TZNAME:PDT
DTSTART:20230312T100000
END:DAYLIGHT
BEGIN:STANDARD
TZOFFSETFROM:-0700
TZOFFSETTO:-0800
TZNAME:PST
DTSTART:20231105T090000
END:STANDARD
BEGIN:DAYLIGHT
TZOFFSETFROM:-0800
TZOFFSETTO:-0700
TZNAME:PDT
DTSTART:20240310T100000
END:DAYLIGHT
BEGIN:STANDARD
TZOFFSETFROM:-0700
TZOFFSETTO:-0800
TZNAME:PST
DTSTART:20241103T090000
END:STANDARD
END:VTIMEZONE
BEGIN:VEVENT
DTSTART;TZID=America/Vancouver:20230813T130000
DTEND;TZID=America/Vancouver:20230813T160000
DTSTAMP:20260420T040247
CREATED:20230730T165041Z
LAST-MODIFIED:20230730T165041Z
UID:1070-1691931600-1691942400@www.nadatodo.com
SUMMARY:Very Venus: Pleasure\, art and beauty in Victoria
DESCRIPTION:Join Scarlet for an immersive and transformative workshop to explore the intuitive arts through sensory practices and facilitated discussion. \nThe planet Venus helps unlock a deep wisdom within. It teaches us that our bodies are sheer beauty and utter magic. Venus reminds us that our physical sensations and emotions hold a sacred knowledge designed to keep us safe and pull us towards the pleasure that is right for each of us. When we connect with Venus and trust her gifts of pleasure\, art\, and creativity\, we discover what we need\, value\, and desire. \nMy goal for this workshop is for everyone to feel deeply rooted in Venus energy; connected to your senses\, present to the sacred\, bursting with energy\, and filled to the brim with possibility. In this glorious time we share together you will feel like a radiant and magnificent Queen. And you don’t even have to believe me for this to happen! All you’ve got to do\, is come. \nTo register\, click here. \nWhat to bring: \n\nCushion\, blanket\nYour sisters
URL:http://www.nadatodo.com/event/very-venus-pleasure-art-and-beauty-in-victoria/
LOCATION:Haus of Owl\, 780 Blanshard Street\, 4th floor\, Victoria\, BC\, V8W 2H1\, Canada
CATEGORIES:Workshops
ATTACH;FMTTYPE=image/png:http://www.nadatodo.com/wp-content/uploads/2023/07/Very-Venus.png
ORGANIZER;CN="Scarlet":MAILTO:info@scarletjaxen.com
END:VEVENT
BEGIN:VEVENT
DTSTART;TZID=America/Vancouver:20230801T190000
DTEND;TZID=America/Vancouver:20230801T210000
DTSTAMP:20260420T040247
CREATED:20230726T171002Z
LAST-MODIFIED:20230730T164459Z
UID:1039-1690916400-1690923600@www.nadatodo.com
SUMMARY:Monthly honour the spirits + full moon ceremony in Vancouver
DESCRIPTION:Join me as we honour the elementals\, earth\, water and air and spirits in this realm and all others by connecting and feeding our compassionate and helpful friends over the full moon while taking in the sunset. \nBring your drum\, rattle and offerings—any plant/biodegradable/natural materials. Journey beforehand if you want to honour specific spirits and what they’d like as their offering. \nAt Spanish Banks in Vancouver by the last parking lot\, oceanfront.
URL:http://www.nadatodo.com/event/honour-the-spirits-full-moon-ceremony/
CATEGORIES:Ceremonies
ATTACH;FMTTYPE=image/jpeg:http://www.nadatodo.com/wp-content/uploads/2023/07/Feeding-the-spirits.jpeg
ORGANIZER;CN="Anastasia":MAILTO:info@nadatodo.com
END:VEVENT
END:VCALENDAR